BEGIN:VCALENDAR
VERSION:2.0
PRODID:-//jEvents 2.0 for Joomla//EN
CALSCALE:GREGORIAN
METHOD:PUBLISH
BEGIN:VTIMEZONE
TZID:Europe/Berlin
BEGIN:STANDARD
DTSTART:20251026T020000
RDATE:20260329T030000
TZOFFSETFROM:+0200
TZOFFSETTO:+0100
TZNAME:Europe/Berlin CET
END:STANDARD
BEGIN:DAYLIGHT
DTSTART:20250925T000000
RDATE:20251026T020000
TZOFFSETFROM:+0100
TZOFFSETTO:+0200
TZNAME:Europe/Berlin CEST
END:DAYLIGHT
END:VTIMEZONE
BEGIN:VEVENT
UID:5497532b2954e9e99039c081bbd96159
CATEGORIES:Beginnerkurse zum internationalen Tauchschein
CREATED:20260301T154639
SUMMARY:Kursbeginn OWD Standard
DESCRIPTION:<p>Hol Dir Deinen Tauchschein</p><p><strong>Open Water Diver – Dein Ticket 
 in die Welt unter Wasser</strong></p><p>Du träumst davon, selbstständig die
  Unterwasserwelt zu erkunden? Mit dem <strong>Open Water Diver</strong>-Kur
 s machst Du den entscheidenden Schritt vom Neugierigen zum zertifizierten T
 aucher.</p><p>In entspannter Lernatmosphäre vermitteln wir dir alles, was D
 u für sicheres und eigenständiges Tauchen brauchst:</p><ul><li>Grundlagen d
 er Tauchtheorie, auf Wunsch auch als eLearning</li><li>Umgang mit Deiner Au
 srüstung</li><li>Wichtige Unterwasser-Übungen im Pool</li><li>Vier Freiwass
 ertauchgänge im See</li></ul><p>Schritt für Schritt gewinnst Du Sicherheit,
  Routine und Vertrauen – begleitet von erfahrenen Tauchlehrern, die Dich in
 dividuell betreuen. Schon nach kurzer Zeit schwebst Du schwerelos Durchs Wa
 sser und erlebst eine völlig neue Perspektive auf die Natur.</p><p>Nach erf
 olgreichem Abschluss erhältst Du Dein international anerkanntes Brevet – wa
 hlweise von <strong>PADI</strong> oder <strong>i.a.c.</strong> – und darfst
  weltweit bis 18 Meter Tiefe tauchen.</p><p>Mach aus einem Traum ein Hobby 
 – oder den Beginn einer Leidenschaft fürs Leben.<br />Starte jetzt Dein Abe
 nteuer Open Water Diver!</p><p>Kurspreis Standardkurs: EUR 550 pro Person (
 3 festgelegte, aufeinanderfolgende Samstage)</p><p><strong>Kurspreis Premiu
 mkurs: EUR 675 pro Person (3 frei wählbare Samstagstermine)</strong></p><p>
 Kurspreis Kompaktkurs: EUR 675 pro Person (Kurs an 3 aufeinanderfolgenden T
 agen laut Terminplan)</p><p>Kurspreis Individuell: € 550 pro Tag (Termine f
 rei wählbar, max. 2 Personen)</p><p>Kurspreis immer zuzüglich Mietausrüstun
 g und Zertifizierung</p>
DTSTAMP:20260421T110615
DTSTART;TZID=Europe/Berlin;VALUE=DATE:20260926
DTEND;TZID=Europe/Berlin;VALUE=DATE:20260927
SEQUENCE:0
TRANSP:OPAQUE
END:VEVENT
END:VCALENDAR