BEGIN:VCALENDAR
VERSION:2.0
PRODID:-//jEvents 2.0 for Joomla//EN
CALSCALE:GREGORIAN
METHOD:PUBLISH
BEGIN:VTIMEZONE
TZID:Europe/Berlin
BEGIN:STANDARD
DTSTART:20251026T020000
RDATE:20260329T030000
TZOFFSETFROM:+0200
TZOFFSETTO:+0100
TZNAME:Europe/Berlin CET
END:STANDARD
BEGIN:DAYLIGHT
DTSTART:20250811T000000
RDATE:20251026T020000
TZOFFSETFROM:+0100
TZOFFSETTO:+0200
TZNAME:Europe/Berlin CEST
END:DAYLIGHT
END:VTIMEZONE
BEGIN:VEVENT
UID:c6ca1bbdd6f415023675fc0a29baa909
CATEGORIES:Beginnerkurse zum internationalen Tauchschein
CREATED:20260117T170844
SUMMARY:OWD Kompaktkurs
DESCRIPTION:Hol Dir Deinen Tauchschein\nOpen Water Diver – Dein Ticket in die Welt unte
 r Wasser\nDu träumst davon, selbstständig die Unterwasserwelt zu erkunden? 
 Mit dem Open Water Diver-Kurs machst Du den entscheidenden Schritt vom Neug
 ierigen zum zertifizierten Taucher.\nIn entspannter Lernatmosphäre vermitte
 ln wir dir alles, was Du für sicheres und eigenständiges Tauchen brauchst:\
 n\n - Grundlagen der Tauchtheorie, auf Wunsch auch als eLearning\n - Umgang
  mit Deiner Ausrüstung\n - Wichtige Unterwasser-Übungen im Pool\n - Vier Fr
 eiwassertauchgänge im SeeSchritt für Schritt gewinnst Du Sicherheit, Routin
 e und Vertrauen – begleitet von erfahrenen Tauchlehrern, die Dich individue
 ll betreuen. Schon nach kurzer Zeit schwebst Du schwerelos Durchs Wasser un
 d erlebst eine völlig neue Perspektive auf die Natur.\nNach erfolgreichem A
 bschluss erhältst Du Dein international anerkanntes Brevet – wahlweise von 
 PADI oder i.a.c. – und darfst weltweit bis 18 Meter Tiefe tauchen.\nMach au
 s einem Traum ein Hobby – oder den Beginn einer Leidenschaft fürs Leben.\nS
 tarte jetzt Dein Abenteuer Open Water Diver!\nKurspreis Standardkurs: EUR 5
 50 pro Person (3 festgelegte, aufeinanderfolgende Samstage)\nKurspreis Prem
 iumkurs: EUR 675 pro Person (3 frei wählbare Samstagstermine)\nKurspreis Ko
 mpaktkurs: EUR 675 pro Person (Kurs an 3 aufeinanderfolgenden Tagen laut Te
 rminplan)\nKurspreis Individuell: € 550 pro Tag (Termine frei wählbar, max.
  2 Personen)\nKurspreis immer zuzüglich Mietausrüstung und Zertifizierung\n
X-ALT-DESC;FMTTYPE=text/html:<p>Hol Dir Deinen Tauchschein</p><p><strong>Open Water Diver – Dein Ticket 
 in die Welt unter Wasser</strong></p><p>Du träumst davon, selbstständig die
  Unterwasserwelt zu erkunden? Mit dem <strong>Open Water Diver</strong>-Kur
 s machst Du den entscheidenden Schritt vom Neugierigen zum zertifizierten T
 aucher.</p><p>In entspannter Lernatmosphäre vermitteln wir dir alles, was D
 u für sicheres und eigenständiges Tauchen brauchst:</p><ul><li>Grundlagen d
 er Tauchtheorie, auf Wunsch auch als eLearning</li><li>Umgang mit Deiner Au
 srüstung</li><li>Wichtige Unterwasser-Übungen im Pool</li><li>Vier Freiwass
 ertauchgänge im See</li></ul><p>Schritt für Schritt gewinnst Du Sicherheit,
  Routine und Vertrauen – begleitet von erfahrenen Tauchlehrern, die Dich in
 dividuell betreuen. Schon nach kurzer Zeit schwebst Du schwerelos Durchs Wa
 sser und erlebst eine völlig neue Perspektive auf die Natur.</p><p>Nach erf
 olgreichem Abschluss erhältst Du Dein international anerkanntes Brevet – wa
 hlweise von <strong>PADI</strong> oder <strong>i.a.c.</strong> – und darfst
  weltweit bis 18 Meter Tiefe tauchen.</p><p>Mach aus einem Traum ein Hobby 
 – oder den Beginn einer Leidenschaft fürs Leben.<br />Starte jetzt Dein Abe
 nteuer Open Water Diver!</p><p>Kurspreis Standardkurs: EUR 550 pro Person (
 3 festgelegte, aufeinanderfolgende Samstage)</p><p><strong>Kurspreis Premiu
 mkurs: EUR 675 pro Person (3 frei wählbare Samstagstermine)</strong></p><p>
 Kurspreis Kompaktkurs: EUR 675 pro Person (Kurs an 3 aufeinanderfolgenden T
 agen laut Terminplan)</p><p>Kurspreis Individuell: € 550 pro Tag (Termine f
 rei wählbar, max. 2 Personen)</p><p>Kurspreis immer zuzüglich Mietausrüstun
 g und Zertifizierung</p>
DTSTAMP:20260421T112447
DTSTART;TZID=Europe/Berlin;VALUE=DATE:20260812
DTEND;TZID=Europe/Berlin;VALUE=DATE:20260815
SEQUENCE:0
TRANSP:OPAQUE
END:VEVENT
END:VCALENDAR